BEGIN:VCALENDAR
VERSION:2.0
PRODID:-//wp-events-plugin.com//7.2.3.1//EN
TZID:America/Los_Angeles
X-WR-TIMEZONE:America/Los_Angeles
BEGIN:VEVENT
UID:54-293@sd.r9-asce.org
DTSTART;TZID=America/Los_Angeles:20260505T113000
DTEND;TZID=America/Los_Angeles:20260505T130000
DTSTAMP:20260409T001918Z
URL:https://sd.r9-asce.org/events/joint-apwa-asce-imperial-county-meeting/
SUMMARY:Joint APWA/ASCE Imperial County Meeting
DESCRIPTION:
END:VEVENT
BEGIN:VTIMEZONE
TZID:America/Los_Angeles
X-LIC-LOCATION:America/Los_Angeles
BEGIN:DAYLIGHT
DTSTART:20260308T030000
TZOFFSETFROM:-0800
TZOFFSETTO:-0700
TZNAME:PDT
END:DAYLIGHT
END:VTIMEZONE
END:VCALENDAR