BEGIN:VCALENDAR
VERSION:2.0
PRODID:-//wp-events-plugin.com//7.2.3.1//EN
TZID:America/Los_Angeles
X-WR-TIMEZONE:America/Los_Angeles
BEGIN:VEVENT
UID:54-251@sd.r9-asce.org
DTSTART;TZID=America/Los_Angeles:20260127T113000
DTEND;TZID=America/Los_Angeles:20260127T133000
DTSTAMP:20260126T194157Z
URL:https://sd.r9-asce.org/events/asce-january-luncheon/
SUMMARY:ASCE January Luncheon
DESCRIPTION:
CATEGORIES:San Diego Section
LOCATION:Four Points by Sheraton 8110 Aero Drive San Diego\, 8110 Aero Driv
 e \, San Diego\, CA 92123\, 
GEO:32.810819;-117.148443
X-APPLE-STRUCTURED-LOCATION;VALUE=URI;X-ADDRESS=8110 Aero Drive \, San Dieg
 o\, CA 92123\, ;X-APPLE-RADIUS=100;X-TITLE=Four Points by Sheraton 8110 Ae
 ro Drive San Diego:geo:32.810819,-117.148443
END:VEVENT
BEGIN:VTIMEZONE
TZID:America/Los_Angeles
X-LIC-LOCATION:America/Los_Angeles
BEGIN:STANDARD
DTSTART:20251102T010000
TZOFFSETFROM:-0700
TZOFFSETTO:-0800
TZNAME:PST
END:STANDARD
END:VTIMEZONE
END:VCALENDAR